BEGIN:VCALENDAR
VERSION:2.0
PRODID:-//Southeast Bronx Neighborhood Centers Inc. - ECPv6.15.17//NONSGML v1.0//EN
CALSCALE:GREGORIAN
METHOD:PUBLISH
X-WR-CALNAME:Southeast Bronx Neighborhood Centers Inc.
X-ORIGINAL-URL:https://sebnc.org
X-WR-CALDESC:Events for Southeast Bronx Neighborhood Centers Inc.
REFRESH-INTERVAL;VALUE=DURATION:PT1H
X-Robots-Tag:noindex
X-PUBLISHED-TTL:PT1H
BEGIN:VTIMEZONE
TZID:America/New_York
BEGIN:DAYLIGHT
TZOFFSETFROM:-0500
TZOFFSETTO:-0400
TZNAME:EDT
DTSTART:20200308T070000
END:DAYLIGHT
BEGIN:STANDARD
TZOFFSETFROM:-0400
TZOFFSETTO:-0500
TZNAME:EST
DTSTART:20201101T060000
END:STANDARD
BEGIN:DAYLIGHT
TZOFFSETFROM:-0500
TZOFFSETTO:-0400
TZNAME:EDT
DTSTART:20210314T070000
END:DAYLIGHT
BEGIN:STANDARD
TZOFFSETFROM:-0400
TZOFFSETTO:-0500
TZNAME:EST
DTSTART:20211107T060000
END:STANDARD
BEGIN:DAYLIGHT
TZOFFSETFROM:-0500
TZOFFSETTO:-0400
TZNAME:EDT
DTSTART:20220313T070000
END:DAYLIGHT
BEGIN:STANDARD
TZOFFSETFROM:-0400
TZOFFSETTO:-0500
TZNAME:EST
DTSTART:20221106T060000
END:STANDARD
BEGIN:DAYLIGHT
TZOFFSETFROM:-0500
TZOFFSETTO:-0400
TZNAME:EDT
DTSTART:20230312T070000
END:DAYLIGHT
BEGIN:STANDARD
TZOFFSETFROM:-0400
TZOFFSETTO:-0500
TZNAME:EST
DTSTART:20231105T060000
END:STANDARD
END:VTIMEZONE
BEGIN:VEVENT
DTSTART;TZID=America/New_York:20220616T130000
DTEND;TZID=America/New_York:20220617T160000
DTSTAMP:20260421T204523
CREATED:20220615T192228Z
LAST-MODIFIED:20220615T192228Z
UID:1598-1655384400-1655481600@sebnc.org
SUMMARY:Mental Health Marketplace Event
DESCRIPTION:Good morning #Not62 partners\, \nPlease join us on Thurs\, June 16th and Friday\, June 17th from 1-4 PM each day for our Mental Health Marketplace event! This 2-day event with the goal of promoting the importance of emotional wellness thru education\, support\, and resources for the Bronx community to support better mental health for all. \nJune 16th 1-4 PM \nCOVID Community Conversations \nA free\, three-hour training with a certificate for all Bronxites to address the mental health challenges brought on by COVID-19\, provided by NYC DOHMH \nClick here to register (limited seats available) \nJune 17th 1-4 PM \nMental Health Marketplace\, workshops by Bronx partner organizations to support men’s mental health \nClick here to register (limited seats available) \nPlease forward to your community partners and residents. For any questions regarding registration\, email Fernando Tirado at ftirado@health.nyc.gov. Thanks.
URL:https://sebnc.org/event/mental-health-marketplace-event/
ATTACH;FMTTYPE=image/jpeg:https://sebnc.org/wp-content/uploads/2022/06/mental-health-marketplace-flyer.jpg
END:VEVENT
BEGIN:VEVENT
DTSTART;TZID=America/New_York:20220610T160000
DTEND;TZID=America/New_York:20220610T170000
DTSTAMP:20260421T204523
CREATED:20220609T211648Z
LAST-MODIFIED:20220609T211648Z
UID:1591-1654876800-1654880400@sebnc.org
SUMMARY:SEBNC Open Mic - June 2022
DESCRIPTION:To sign up to perform go to: https://tinyurl.com/SEBNCOpenMic3
URL:https://sebnc.org/event/sebnc-open-mic-june-2022/
LOCATION:955 Tinton Ave\, 955 Tinton Ave\, Bronx\, NY\, 10456\, United States
ATTACH;FMTTYPE=image/jpeg:https://sebnc.org/wp-content/uploads/2022/06/sebnc-open-mic-june-2022-banner.jpg
END:VEVENT
BEGIN:VEVENT
DTSTART;TZID=America/New_York:20220224T153000
DTEND;TZID=America/New_York:20220224T170000
DTSTAMP:20260421T204523
CREATED:20220223T191440Z
LAST-MODIFIED:20220223T191509Z
UID:1509-1645716600-1645722000@sebnc.org
SUMMARY:PSA 7 Build The Block Discussion
DESCRIPTION:
URL:https://sebnc.org/event/psa-7-build-the-block-discussion/
LOCATION:955 Tinton Ave\, 955 Tinton Ave\, Bronx\, NY\, 10456\, United States
ATTACH;FMTTYPE=image/png:https://sebnc.org/wp-content/uploads/2022/02/sebnc-psa-7-build-a-block-discussion.png
END:VEVENT
BEGIN:VEVENT
DTSTART;VALUE=DATE:20211228
DTEND;VALUE=DATE:20220103
DTSTAMP:20260421T204523
CREATED:20211228T143742Z
LAST-MODIFIED:20211228T212915Z
UID:1474-1640649600-1641167999@sebnc.org
SUMMARY:SEBNC Main Site Closure
DESCRIPTION:
URL:https://sebnc.org/event/sebnc-main-site-closure/
LOCATION:Gym at 955 Tinton Ave\, 955 Tinton Ave\, The Bronx\, NY\, 10456\, United States
ATTACH;FMTTYPE=image/jpeg:https://sebnc.org/wp-content/uploads/2021/12/sebnc-closed-notice.jpg
END:VEVENT
BEGIN:VEVENT
DTSTART;TZID=America/New_York:20211222T103000
DTEND;TZID=America/New_York:20211222T113000
DTSTAMP:20260421T204523
CREATED:20211220T215118Z
LAST-MODIFIED:20211220T215118Z
UID:1464-1640169000-1640172600@sebnc.org
SUMMARY:Virtual Christmas Celebration - December 2021
DESCRIPTION:Join the Zoom Meeting \nhttps://us04web.zoom.us/j/78477295283?pwd=WWFOOHdxWFJNYmtTd080RXhqU3ZxZz09 \nMeeting ID: 78477295283 \nPasscode: WcUS6G
URL:https://sebnc.org/event/virtual-christmas-celebration-december-2021/
LOCATION:Virtual / Online
ATTACH;FMTTYPE=image/jpeg:https://sebnc.org/wp-content/uploads/2021/12/Gwendolyn-holiday-flyer-2021.jpg
END:VEVENT
BEGIN:VEVENT
DTSTART;TZID=America/New_York:20211218T150000
DTEND;TZID=America/New_York:20211218T190000
DTSTAMP:20260421T204523
CREATED:20211217T202916Z
LAST-MODIFIED:20211217T202916Z
UID:1461-1639839600-1639854000@sebnc.org
SUMMARY:Holiday Toy Giveaway - December 2021
DESCRIPTION:
URL:https://sebnc.org/event/holiday-toy-giveaway-december-2021/
LOCATION:Gym at 955 Tinton Ave\, 955 Tinton Ave\, The Bronx\, NY\, 10456\, United States
ATTACH;FMTTYPE=image/jpeg:https://sebnc.org/wp-content/uploads/2021/12/Toy-Giveaway-12.18.2021.jpg
END:VEVENT
BEGIN:VEVENT
DTSTART;TZID=America/New_York:20211216T170000
DTEND;TZID=America/New_York:20211216T200000
DTSTAMP:20260421T204523
CREATED:20211202T144553Z
LAST-MODIFIED:20211203T202508Z
UID:1453-1639674000-1639684800@sebnc.org
SUMMARY:Free Food Event Near You - December 2021
DESCRIPTION:
URL:https://sebnc.org/event/free-food-event-near-you-december-2021/
LOCATION:1501 Jerome Ave\, Bronx\, NY 10452\, 1501 Jerome Ave\, Bronx\, NY\, 10452\, United States
ATTACH;FMTTYPE=image/jpeg:https://sebnc.org/wp-content/uploads/2021/12/sebnc-december-2021-food-giveaway-ad.jpg
END:VEVENT
BEGIN:VEVENT
DTSTART;TZID=America/New_York:20211119T100000
DTEND;TZID=America/New_York:20211119T140000
DTSTAMP:20260421T204523
CREATED:20211109T204747Z
LAST-MODIFIED:20211109T204747Z
UID:1443-1637316000-1637330400@sebnc.org
SUMMARY:SEBNC November Food Giveaway
DESCRIPTION:
URL:https://sebnc.org/event/sebnc-november-food-giveaway/
LOCATION:Gym at 955 Tinton Ave\, 955 Tinton Ave\, The Bronx\, NY\, 10456\, United States
ATTACH;FMTTYPE=image/jpeg:https://sebnc.org/wp-content/uploads/2021/11/Food-Giveaway-Flyer-11.09.21.jpg
END:VEVENT
BEGIN:VEVENT
DTSTART;TZID=America/New_York:20211022T120000
DTEND;TZID=America/New_York:20211022T160000
DTSTAMP:20260421T204523
CREATED:20211007T174712Z
LAST-MODIFIED:20211013T140737Z
UID:1433-1634904000-1634918400@sebnc.org
SUMMARY:SEBNC Job Fair Sponsored by Amazon
DESCRIPTION:
URL:https://sebnc.org/event/sebnc-job-fair-sponsored-by-amazon/
LOCATION:Gym at 955 Tinton Ave\, 955 Tinton Ave\, The Bronx\, NY\, 10456\, United States
ATTACH;FMTTYPE=image/png:https://sebnc.org/wp-content/uploads/2021/10/sebnc-amazon-in-person-job-fair-nyc.png
END:VEVENT
BEGIN:VEVENT
DTSTART;TZID=America/New_York:20210816T130000
DTEND;TZID=America/New_York:20210820T173000
DTSTAMP:20260421T204523
CREATED:20211003T151540Z
LAST-MODIFIED:20211003T151540Z
UID:1427-1629118800-1629480600@sebnc.org
SUMMARY:Gwendolyn B. Bland: Italian Icee Fundraiser
DESCRIPTION:
URL:https://sebnc.org/event/gwendolyn-b-bland-italian-icee-fundraiser/
LOCATION:749 East 163rd Street\, 749 East 163rd Street\, Bronx\, NY\, 10456\, United States
END:VEVENT
END:VCALENDAR